BEGIN:VCALENDAR
VERSION:2.0
PRODID:-//Harding Park HOA - ECPv6.15.17//NONSGML v1.0//EN
CALSCALE:GREGORIAN
METHOD:PUBLISH
X-ORIGINAL-URL:https://hardingparkbronx.com
X-WR-CALDESC:Events for Harding Park HOA
REFRESH-INTERVAL;VALUE=DURATION:PT1H
X-Robots-Tag:noindex
X-PUBLISHED-TTL:PT1H
BEGIN:VTIMEZONE
TZID:UTC
BEGIN:STANDARD
TZOFFSETFROM:+0000
TZOFFSETTO:+0000
TZNAME:UTC
DTSTART:20250101T000000
END:STANDARD
END:VTIMEZONE
BEGIN:VEVENT
DTSTART;TZID=UTC:20260322T130000
DTEND;TZID=UTC:20260322T160000
DTSTAMP:20260420T223909
CREATED:20260301T191234Z
LAST-MODIFIED:20260304T164429Z
UID:150-1774184400-1774195200@hardingparkbronx.com
SUMMARY:AN AFTERNOON OF BINGO
DESCRIPTION:  \nYou are welcome to join us for an afternoon of fun\, fellowship and BINGO!!\n \nAdmission fee:  $5.00\nBingo cards :  $2.00 each\nPrizes and light refreshments!\n  \n  \n 
URL:https://hardingparkbronx.com/event/an-afternoon-of-bingo/
LOCATION:Harding Park Home Owners Association\, Inc.\, 1820 Gildersleeve Ave\, Bronx\, 10473\, United States
END:VEVENT
END:VCALENDAR